BEGIN:VCALENDAR
VERSION:2.0
PRODID:-//Wellness in Motion - State College Yoga Studio - ECPv5.0.0//NONSGML v1.0//EN
CALSCALE:GREGORIAN
METHOD:PUBLISH
X-WR-CALNAME:Wellness in Motion - State College Yoga Studio
X-ORIGINAL-URL:https://wellnessinmotionstudio.com
X-WR-CALDESC:Events for Wellness in Motion - State College Yoga Studio
BEGIN:VTIMEZONE
TZID:America/New_York
BEGIN:DAYLIGHT
TZOFFSETFROM:-0500
TZOFFSETTO:-0400
TZNAME:EDT
DTSTART:20250309T070000
END:DAYLIGHT
BEGIN:STANDARD
TZOFFSETFROM:-0400
TZOFFSETTO:-0500
TZNAME:EST
DTSTART:20251102T060000
END:STANDARD
END:VTIMEZONE
BEGIN:VEVENT
DTSTART;TZID=America/New_York:20250109T200000
DTEND;TZID=America/New_York:20250109T203000
DTSTAMP:20260425T123814
CREATED:20240926T195652Z
LAST-MODIFIED:20241215T205716Z
UID:3622-1736452800-1736454600@wellnessinmotionstudio.com
SUMMARY:Yoga Nidra Mini-Series (Embrace Your Now)
DESCRIPTION:While generally thought of as a form of relaxation\, Yoga nidra is technically a meditation technique. During the practice\, one appears to be asleep\, but the consciousness is functioning on a deeper level of awareness. Unlike traditional meditation\, Yoga nidra doesn’t require you to sit tall or to concentrate and still your mind.  In yoga nidra\, the state of relaxation is reached by systematically turning inwards and away from outer experiences\, providing the practitioner with deep relaxation.\n\nIt has been said that one hour of yoga nidra is equivalent to four hours of sleep. During the darker months when many animals hibernate\, us humans tend to pack in more doing\, more buying\, more visiting and more expectations. Give yourself the gift of rest with this mini-series.\n\nThis series\, taught by Jill\, takes place via zoom\, in the comfort of your own home. Your registration will come with recordings so you can revisit these nidras.\n\n1/9: Befriend your body\n1/16: Honor your breath\n1/23: Find focus\n1/30: Choose gratitude\n\nRegister here. \n
URL:https://wellnessinmotionstudio.com/event/yoga-nidra-mini-series-embrace-your-now/
LOCATION:Wellness in Motion\, 2541 E. College Ave\, Suite 104\, State College\, PA\, 16801\, United States
ATTACH;FMTTYPE=image/jpeg:https://wellnessinmotionstudio.com/wp-content/uploads/2024/09/embrace-your-now-e1734296221806.jpg
END:VEVENT
END:VCALENDAR