BEGIN:VCALENDAR
VERSION:2.0
PRODID:-//Wellness in Motion - State College Yoga Studio - ECPv5.0.0//NONSGML v1.0//EN
CALSCALE:GREGORIAN
METHOD:PUBLISH
X-WR-CALNAME:Wellness in Motion - State College Yoga Studio
X-ORIGINAL-URL:https://wellnessinmotionstudio.com
X-WR-CALDESC:Events for Wellness in Motion - State College Yoga Studio
BEGIN:VTIMEZONE
TZID:America/New_York
BEGIN:DAYLIGHT
TZOFFSETFROM:-0500
TZOFFSETTO:-0400
TZNAME:EDT
DTSTART:20200308T070000
END:DAYLIGHT
BEGIN:STANDARD
TZOFFSETFROM:-0400
TZOFFSETTO:-0500
TZNAME:EST
DTSTART:20201101T060000
END:STANDARD
END:VTIMEZONE
BEGIN:VEVENT
DTSTART;TZID=America/New_York:20200425T080000
DTEND;TZID=America/New_York:20200425T130000
DTSTAMP:20260425T152850
CREATED:20200130T141935Z
LAST-MODIFIED:20200401T135003Z
UID:2643-1587801600-1587819600@wellnessinmotionstudio.com
SUMMARY:Yoga Nidra – A Continuing Ed Course for Yoga Teachers ONLINE
DESCRIPTION:**Important change: Due to COVID we are taking this training online. Yoga Alliance is allowing this variance for previously scheduled trainings.** \nYes\, yoga nidra is a great “yoga nap” where we rest deeply\, but it is so much more. Mandy Glitzer will lead this module. Learn the science and background of yoga nidra\, sleep states\, and brain waves. Become familiar with the stages of yoga nidra and how movement and pranayama can lead to a deeper yoga nidra experience. We’ll explore the koshas\, samskaras\, and karma as they relate to yoga nidra. By the end of this weekend you will feel confident in your ability to create your own yoga nidra script to use at the end of a yoga class\, or as a stand alone class. \nBook (required): “Yoga Nida: The Art of Transformational Sleep” by Kamini Desai \nYoga teachers who wish to receive a certificate must: \n\nRead the required book\nAttend the full program April 25/26 and May 2/3\, 2020 8am-1pm\n Complete follow-up homework: Practice daily yoga nidra for one month\, and journal about your experience. Write your own yoga nidra script and either 1) offer 1 yoga nidra class at Wellness in Motion which can be observed by Mandy or 2) record your yoga nidra script for Mandy’s review and feedback.\n\n** This program is for Yoga Teachers or teacher trainees. Upon successful completion\, you will receive 40 hours of CE credits with Yoga Alliance (20 contact & 20 non-contact). \nCost: $350. Reserve your space now. \n
URL:https://wellnessinmotionstudio.com/event/yoga-nidra-a-continuing-ed-course-for-yoga-teachers/
LOCATION:Wellness in Motion\, 2541 E. College Ave\, Suite 104\, State College\, PA\, 16801\, United States
ATTACH;FMTTYPE=image/jpeg:https://wellnessinmotionstudio.com/wp-content/uploads/2014/05/yoga-nidra2.jpg
END:VEVENT
END:VCALENDAR