BEGIN:VCALENDAR
VERSION:2.0
PRODID:-//Wellness in Motion - State College Yoga Studio - ECPv5.0.0//NONSGML v1.0//EN
CALSCALE:GREGORIAN
METHOD:PUBLISH
X-WR-CALNAME:Wellness in Motion - State College Yoga Studio
X-ORIGINAL-URL:https://wellnessinmotionstudio.com
X-WR-CALDESC:Events for Wellness in Motion - State College Yoga Studio
BEGIN:VTIMEZONE
TZID:America/New_York
BEGIN:DAYLIGHT
TZOFFSETFROM:-0500
TZOFFSETTO:-0400
TZNAME:EDT
DTSTART:20200308T070000
END:DAYLIGHT
BEGIN:STANDARD
TZOFFSETFROM:-0400
TZOFFSETTO:-0500
TZNAME:EST
DTSTART:20201101T060000
END:STANDARD
END:VTIMEZONE
BEGIN:VEVENT
DTSTART;TZID=America/New_York:20201020T191500
DTEND;TZID=America/New_York:20201020T200000
DTSTAMP:20260425T112457
CREATED:20200925T153524Z
LAST-MODIFIED:20200927T200714Z
UID:2887-1603221300-1603224000@wellnessinmotionstudio.com
SUMMARY:Tween Yoga 6-Week Series (VIRTUAL)
DESCRIPTION:Join us for a 6-week Tween Yoga series where we will Fall into Fun now that we’ve settled into the school year successfully! During this series we will practice ways of honoring our energy as the season begins to shift.\n\nThis series will run ONLINE October 20th – November 24th\, Tuesday evenings from 7:15-8pm.\n\nCost: $60/household (If you have an existing 5 or 10 pass that you’ve been using for youth classes\, and want to credit it towards this series\, please reach out to Mandy.)\n  \n
URL:https://wellnessinmotionstudio.com/event/tween-yoga-6-week-series-virtual/
LOCATION:Wellness in Motion\, 2541 E. College Ave\, Suite 104\, State College\, PA\, 16801\, United States
ATTACH;FMTTYPE=image/jpeg:https://wellnessinmotionstudio.com/wp-content/uploads/2020/09/Tween-Yoga-Fall-into-Fun.jpg
END:VEVENT
END:VCALENDAR