BEGIN:VCALENDAR
VERSION:2.0
PRODID:-//Wellness in Motion - State College Yoga Studio - ECPv5.0.0//NONSGML v1.0//EN
CALSCALE:GREGORIAN
METHOD:PUBLISH
X-WR-CALNAME:Wellness in Motion - State College Yoga Studio
X-ORIGINAL-URL:https://wellnessinmotionstudio.com
X-WR-CALDESC:Events for Wellness in Motion - State College Yoga Studio
BEGIN:VTIMEZONE
TZID:America/New_York
BEGIN:DAYLIGHT
TZOFFSETFROM:-0500
TZOFFSETTO:-0400
TZNAME:EDT
DTSTART:20200308T070000
END:DAYLIGHT
BEGIN:STANDARD
TZOFFSETFROM:-0400
TZOFFSETTO:-0500
TZNAME:EST
DTSTART:20201101T060000
END:STANDARD
END:VTIMEZONE
BEGIN:VEVENT
DTSTART;TZID=America/New_York:20200327T180000
DTEND;TZID=America/New_York:20200327T193000
DTSTAMP:20260425T112457
CREATED:20200130T143249Z
LAST-MODIFIED:20200317T171803Z
UID:2648-1585332000-1585337400@wellnessinmotionstudio.com
SUMMARY:Toolkit Series: Kitchen Cabinet Herbalism ONLINE
DESCRIPTION:Curious about herbalism but don’t know where to start? You can start right at home with common items in your kitchen cabinet/pantry! In this class virtual we will cover the medicinal use of common culinary herbs and how you can get creative for treating common ailments with these items in the comfort of your home. Other non-herbal home remedies will be covered as well as other practices in the home to support your health and wellbeing! \nCost: $20. Purchase your pass here. \nYou will be sent a zoom link 1 hour before the class begins. \n
URL:https://wellnessinmotionstudio.com/event/toolkit-series-kitchen-cabinet-herbalism/
LOCATION:Wellness in Motion\, 2541 E. College Ave\, Suite 104\, State College\, PA\, 16801\, United States
CATEGORIES:Toolkit Series
ATTACH;FMTTYPE=image/jpeg:https://wellnessinmotionstudio.com/wp-content/uploads/2020/01/kitchen-counter-herbalism-e1584465467353.jpg
END:VEVENT
END:VCALENDAR