BEGIN:VCALENDAR
VERSION:2.0
PRODID:-//Wellness in Motion - State College Yoga Studio - ECPv5.0.0//NONSGML v1.0//EN
CALSCALE:GREGORIAN
METHOD:PUBLISH
X-WR-CALNAME:Wellness in Motion - State College Yoga Studio
X-ORIGINAL-URL:https://wellnessinmotionstudio.com
X-WR-CALDESC:Events for Wellness in Motion - State College Yoga Studio
BEGIN:VTIMEZONE
TZID:America/New_York
BEGIN:DAYLIGHT
TZOFFSETFROM:-0500
TZOFFSETTO:-0400
TZNAME:EDT
DTSTART:20240310T070000
END:DAYLIGHT
BEGIN:STANDARD
TZOFFSETFROM:-0400
TZOFFSETTO:-0500
TZNAME:EST
DTSTART:20241103T060000
END:STANDARD
END:VTIMEZONE
BEGIN:VEVENT
DTSTART;TZID=America/New_York:20241113T190000
DTEND;TZID=America/New_York:20241113T210000
DTSTAMP:20260425T141757
CREATED:20241009T113703Z
LAST-MODIFIED:20241009T113703Z
UID:3628-1731524400-1731531600@wellnessinmotionstudio.com
SUMMARY:The Rhythm Renewal Drumming Workshop with Jim Donovan
DESCRIPTION:Elevate Your Well-being with The Rhythm Renewal Drumming Workshop! \nImmerse yourself in the pulsating world rhythms\, tap into your innate musical creativity\, and leave feeling uplifted and energized. \nwith Jim Donovan M.Ed. — Multi-Platinum Musician (Rusted Root)\, TEDx Speaker\, Educator\n\n\nSpace is limited to the first 30 people who register.\nBeginners Welcome. Drums provided (or bring your own)\nVenue: Wellness In Motion Studio\, 2541 E College Ave\, State College\, PA 16801 \n\nWhat to Expect? \n✓Borrow one of our drums or percussion items\, or feel free to bring your own.\n✓100% Beginner friendly\n✓A spirited gathering that’s scientifically backed to boost mood\, alleviate stress\, enhance brain health\, and foster genuine social connections. \n\n What Awaits You: \n✓Dive into 2 handed djembe style drumming techniques. \n✓Master captivating world rhythms that resonate deep within. \n✓Explore strategies to unlock your own creative potential. \n✓Enjoy potent brain-building rhythm exercises \n✓Experience the euphoria of creative drumming—a proven mood enhancer. \n\nPrice: Secure your spot for $35 in advance. Or $45 at the door (subject to availability).\nTime: 7 PM – 9 PM. Doors 6:45 PM \n\nWhy Pre-Register?\nAdvance registration ensures your seat because spaces are very limited.\n\nIn the event of a weather related event\, the event will be rescheduled. Beginners are warmly welcomed. Drums Provided.\nNo refunds\, however\, tickets are transferable. \n\nJoin us for an experience like no other – a celebration of music\, healing\, and mindfulness that will leave you refreshed\, inspired\, and deeply connected with your best self.\n\n\nRegister here: Jim Donovan Training Programs (jimdonovantrainings.com)\n\n\n\n\n\n\n
URL:https://wellnessinmotionstudio.com/event/the-rhythm-renewal-drumming-workshop-with-jim-donovan/
LOCATION:Wellness in Motion\, 2541 E. College Ave\, Suite 104\, State College\, PA\, 16801\, United States
ATTACH;FMTTYPE=image/jpeg:https://wellnessinmotionstudio.com/wp-content/uploads/2024/10/Rhythym-renewal-e1728473773270.jpg
END:VEVENT
END:VCALENDAR