BEGIN:VCALENDAR
VERSION:2.0
PRODID:-//Wellness in Motion - State College Yoga Studio - ECPv5.0.0//NONSGML v1.0//EN
CALSCALE:GREGORIAN
METHOD:PUBLISH
X-WR-CALNAME:Wellness in Motion - State College Yoga Studio
X-ORIGINAL-URL:https://wellnessinmotionstudio.com
X-WR-CALDESC:Events for Wellness in Motion - State College Yoga Studio
BEGIN:VTIMEZONE
TZID:America/New_York
BEGIN:DAYLIGHT
TZOFFSETFROM:-0500
TZOFFSETTO:-0400
TZNAME:EDT
DTSTART:20230312T070000
END:DAYLIGHT
BEGIN:STANDARD
TZOFFSETFROM:-0400
TZOFFSETTO:-0500
TZNAME:EST
DTSTART:20231105T060000
END:STANDARD
END:VTIMEZONE
BEGIN:VEVENT
DTSTART;TZID=America/New_York:20230621T190000
DTEND;TZID=America/New_York:20230621T200000
DTSTAMP:20260425T112514
CREATED:20230604T125111Z
LAST-MODIFIED:20230604T130716Z
UID:3352-1687374000-1687377600@wellnessinmotionstudio.com
SUMMARY:Summer Solstice: Yoga Flow + Reiki
DESCRIPTION:The summer solstice is the longest\, brightest day of the year where the sun reaches its highest point in the sky. Channel the transformative qualities of the summer solstice during this flow class where we’ll build our inner fire\, connect to our individual power and give gratitude to the sun. We’ll balance that heat with a cooling relaxation. Throughout our flow\, Rae will be offering Reiki to the group. Please note that this class will be capped at 20 participants. Cost: $20 Register here. \n
URL:https://wellnessinmotionstudio.com/event/summer-solstice-yoga-flow-reiki/
LOCATION:Wellness in Motion\, 2541 E. College Ave\, Suite 104\, State College\, PA\, 16801\, United States
ATTACH;FMTTYPE=image/jpeg:https://wellnessinmotionstudio.com/wp-content/uploads/2023/06/summer-yoga.jpg
END:VEVENT
END:VCALENDAR