BEGIN:VCALENDAR
VERSION:2.0
PRODID:-//Wellness in Motion - State College Yoga Studio - ECPv5.0.0//NONSGML v1.0//EN
CALSCALE:GREGORIAN
METHOD:PUBLISH
X-WR-CALNAME:Wellness in Motion - State College Yoga Studio
X-ORIGINAL-URL:https://wellnessinmotionstudio.com
X-WR-CALDESC:Events for Wellness in Motion - State College Yoga Studio
BEGIN:VTIMEZONE
TZID:America/New_York
BEGIN:DAYLIGHT
TZOFFSETFROM:-0500
TZOFFSETTO:-0400
TZNAME:EDT
DTSTART:20240310T070000
END:DAYLIGHT
BEGIN:STANDARD
TZOFFSETFROM:-0400
TZOFFSETTO:-0500
TZNAME:EST
DTSTART:20241103T060000
END:STANDARD
END:VTIMEZONE
BEGIN:VEVENT
DTSTART;TZID=America/New_York:20241001T103000
DTEND;TZID=America/New_York:20241001T113000
DTSTAMP:20260425T123621
CREATED:20240916T155841Z
LAST-MODIFIED:20240916T163843Z
UID:3585-1727778600-1727782200@wellnessinmotionstudio.com
SUMMARY:Spine Smart Strength Training - October Session
DESCRIPTION:Tuesdays and Thursdays\, 10:30am\, October 1st – 24th\n\nStrengthen your whole body in ways that do not compromise your spine. While this class is open to anyone\, it is specifically designed for individuals with back conditions such as scoliosis\, herniation\, spinal fusion\, chronic back pain\, etc.\n\n\nNo strength training experience is required. Beginners are welcome.\n\n\nThis class is limited to 5 participants and enrolls on a monthly basis. Classes take place on Tuesdays and Thursdays at 10:30am for a total of 8 classes per month. Cost: $200\nRegister here. \n
URL:https://wellnessinmotionstudio.com/event/spine-smart-strength-training-october-session/
LOCATION:Wellness in Motion\, 2541 E. College Ave\, Suite 104\, State College\, PA\, 16801\, United States
ATTACH;FMTTYPE=image/jpeg:https://wellnessinmotionstudio.com/wp-content/uploads/2024/09/IMG_4711-e1726504233862.jpg
END:VEVENT
END:VCALENDAR