BEGIN:VCALENDAR
VERSION:2.0
PRODID:-//Wellness in Motion - State College Yoga Studio - ECPv5.0.0//NONSGML v1.0//EN
CALSCALE:GREGORIAN
METHOD:PUBLISH
X-WR-CALNAME:Wellness in Motion - State College Yoga Studio
X-ORIGINAL-URL:https://wellnessinmotionstudio.com
X-WR-CALDESC:Events for Wellness in Motion - State College Yoga Studio
BEGIN:VTIMEZONE
TZID:America/New_York
BEGIN:DAYLIGHT
TZOFFSETFROM:-0500
TZOFFSETTO:-0400
TZNAME:EDT
DTSTART:20210314T070000
END:DAYLIGHT
BEGIN:STANDARD
TZOFFSETFROM:-0400
TZOFFSETTO:-0500
TZNAME:EST
DTSTART:20211107T060000
END:STANDARD
END:VTIMEZONE
BEGIN:VEVENT
DTSTART;TZID=America/New_York:20210613T100000
DTEND;TZID=America/New_York:20210613T110000
DTSTAMP:20260425T123337
CREATED:20210509T014431Z
LAST-MODIFIED:20210509T014457Z
UID:2998-1623578400-1623582000@wellnessinmotionstudio.com
SUMMARY:Soulful Sunday Yoga Flow on the Lemont Village Green (Outside)
DESCRIPTION:Join Nicole Harmon from Wellness in Motion for this Soulful Sunday Yoga Flow series at Lemont Village Green\, 133 Mt. Nittany Road\, Lemont. Enjoy the serenity of the outdoors and connect breath with movement in a fun Vinyasa inspired flow on the Green. This class is open to all experience levels and all poses can be modified to support each individual’s personal practice. Class cards are accepted. Register here: https://wellnessinmotionstudio.com/classes-and-events/class-calendar/ \nNote: Please bring your own yoga mat\, towel & water. We recommend arriving 15 minutes before class to allow time to check in\, set up and prepare for practice.  Please use a mask while walking around\, according to CDC guidelines\, and social distance. Thank you. \n
URL:https://wellnessinmotionstudio.com/event/soulful-sunday-yoga-flow-on-the-lemont-village-green-outside-2/
LOCATION:Lemont Village Green\, 133 Mt. Nittany Road\, Lemont\, PA\, 16851\, United States
ATTACH;FMTTYPE=image/jpeg:https://wellnessinmotionstudio.com/wp-content/uploads/2021/05/Nicole-Harmon-Full-Body-scaled-e1620523081410.jpg
END:VEVENT
END:VCALENDAR