BEGIN:VCALENDAR
VERSION:2.0
PRODID:-//Wellness in Motion - State College Yoga Studio - ECPv5.0.0//NONSGML v1.0//EN
CALSCALE:GREGORIAN
METHOD:PUBLISH
X-WR-CALNAME:Wellness in Motion - State College Yoga Studio
X-ORIGINAL-URL:https://wellnessinmotionstudio.com
X-WR-CALDESC:Events for Wellness in Motion - State College Yoga Studio
BEGIN:VTIMEZONE
TZID:America/New_York
BEGIN:DAYLIGHT
TZOFFSETFROM:-0500
TZOFFSETTO:-0400
TZNAME:EDT
DTSTART:20220313T070000
END:DAYLIGHT
BEGIN:STANDARD
TZOFFSETFROM:-0400
TZOFFSETTO:-0500
TZNAME:EST
DTSTART:20221106T060000
END:STANDARD
END:VTIMEZONE
BEGIN:VEVENT
DTSTART;TZID=America/New_York:20220116T130000
DTEND;TZID=America/New_York:20220116T140000
DTSTAMP:20260425T112457
CREATED:20210804T131445Z
LAST-MODIFIED:20211214T133533Z
UID:3038-1642338000-1642341600@wellnessinmotionstudio.com
SUMMARY:Restore Your Core 6-Week Series (Sun pm)
DESCRIPTION:In the RYC® Foundations group classes we will move through exercises designed to train your core and pelvic floor to work reflexively while learning the foundations of improving core function such as alignment and breathing techniques. This class is for someone with core or pelvic floor issues such as prolapse\, diastasis recti\, leak pee\, etc. AND anyone looking to build a strong core strategy and have a better understanding of their body. These classes will be held in person only. \nWhat you get: \n\n6 one-hour classes optional with a 10 min Q&A following\nWeekly videos to continue your progress outside of class\nPrivate FB Group for asking questions\, sharing successes\, and staying motivated\nTechniques and tips for gained confidence in your body\, strength in your core\, a pelvic floor that is responsive and supportive.\n\nSundays\, 1-2 pm\, January 16th – February 20th\n(Click the link above to register.) \n
URL:https://wellnessinmotionstudio.com/event/restore-your-core-6-week-series-sun-pm/
LOCATION:Wellness in Motion\, 2541 E. College Ave\, Suite 104\, State College\, PA\, 16801\, United States
ATTACH;FMTTYPE=image/jpeg:https://wellnessinmotionstudio.com/wp-content/uploads/2021/08/working-with-Ashley-1-e1665162157457.jpeg
END:VEVENT
END:VCALENDAR