BEGIN:VCALENDAR
VERSION:2.0
PRODID:-//Wellness in Motion - State College Yoga Studio - ECPv5.0.0//NONSGML v1.0//EN
CALSCALE:GREGORIAN
METHOD:PUBLISH
X-WR-CALNAME:Wellness in Motion - State College Yoga Studio
X-ORIGINAL-URL:https://wellnessinmotionstudio.com
X-WR-CALDESC:Events for Wellness in Motion - State College Yoga Studio
BEGIN:VTIMEZONE
TZID:America/New_York
BEGIN:DAYLIGHT
TZOFFSETFROM:-0500
TZOFFSETTO:-0400
TZNAME:EDT
DTSTART:20260308T070000
END:DAYLIGHT
BEGIN:STANDARD
TZOFFSETFROM:-0400
TZOFFSETTO:-0500
TZNAME:EST
DTSTART:20261101T060000
END:STANDARD
END:VTIMEZONE
BEGIN:VEVENT
DTSTART;TZID=America/New_York:20260411T113000
DTEND;TZID=America/New_York:20260411T123000
DTSTAMP:20260425T014446
CREATED:20260225T120939Z
LAST-MODIFIED:20260225T120939Z
UID:4140-1775907000-1775910600@wellnessinmotionstudio.com
SUMMARY:Qigong for World Peace & Self-Healing
DESCRIPTION:In times of global tension\, it can feel overwhelming and even disheartening. \nIn this special Qigong class\, we will use the power of intention to heal and clear feelings of anger and sadness\, and to generate kindness\, love\, and peace — empowering us to extend them outward into the world. \nIn Qigong\, the forces of Heaven\, Humans\, and Earth govern the state of our world and the perceptions and actions that shape it. When humans are out of alignment with Heaven and Earth\, it creates disharmony and things become chaotic. When we are in alignment with Heaven and Earth\, we become an open conduit between these two forces\, creating harmony and balance. \nIn this practice\, Savitri Cole will guide you through breath\, flowing movement\, and meditation to help you expand into your human potential to align Heaven and Earth and embody your essential role as a bridge to world peace and the well-being of the Earth. \nCost: $20. Register Here \n
URL:https://wellnessinmotionstudio.com/event/qigong-for-world-peace-self-healing/
LOCATION:Wellness in Motion\, 2541 E. College Ave\, Suite 104\, State College\, PA\, 16801\, United States
ATTACH;FMTTYPE=image/png:https://wellnessinmotionstudio.com/wp-content/uploads/2026/02/Image.world-peace-and-self-healing-qigong.2026-SC.png
END:VEVENT
END:VCALENDAR