BEGIN:VCALENDAR
VERSION:2.0
PRODID:-//Wellness in Motion - State College Yoga Studio - ECPv5.0.0//NONSGML v1.0//EN
CALSCALE:GREGORIAN
METHOD:PUBLISH
X-WR-CALNAME:Wellness in Motion - State College Yoga Studio
X-ORIGINAL-URL:https://wellnessinmotionstudio.com
X-WR-CALDESC:Events for Wellness in Motion - State College Yoga Studio
BEGIN:VTIMEZONE
TZID:America/New_York
BEGIN:DAYLIGHT
TZOFFSETFROM:-0500
TZOFFSETTO:-0400
TZNAME:EDT
DTSTART:20260308T070000
END:DAYLIGHT
BEGIN:STANDARD
TZOFFSETFROM:-0400
TZOFFSETTO:-0500
TZNAME:EST
DTSTART:20261101T060000
END:STANDARD
END:VTIMEZONE
BEGIN:VEVENT
DTSTART;TZID=America/New_York:20260408T161500
DTEND;TZID=America/New_York:20260408T170000
DTSTAMP:20260425T030349
CREATED:20260303T201538Z
LAST-MODIFIED:20260403T130238Z
UID:4150-1775664900-1775667600@wellnessinmotionstudio.com
SUMMARY:Preschool Yoga & Mindfulness Experience
DESCRIPTION:\n\n\n\nPreschool Yoga & Mindfulness Experience… blends movement\, music\, and meditation into a joyful journey of self-discovery. \nDesigned specifically for early childhood\, each class helps children: \n\nBuild emotional resilience\nPractice kindness and empathy\nDevelop healthy self-soothing tools\nCultivate respect for all living beings\nConnect to community and the earth\n\nThrough playful yoga sequences\, heart-centered songs\, breathwork\, and guided relaxation\, children learn that calm is something they can create within themselves—and that their actions matter in the world around them. \nBecause when children learn to regulate their bodies and emotions early\, they grow into compassionate\, confident humans. \nEach class gently weaves in lessons on kindness\, emotional awareness\, self-soothing\, and respect for ourselves\, others\, and the earth we share. Children explore big feelings in a safe and supportive space\, build friendships rooted in empathy\, and practice mindfulness tools they can use at home and in school. \nWe stretch\, sing\, breathe\, imagine\, and grow together. This is a caregiver and me class. Caregiver is expected to attend and participate in class with preschooler. \n6 Week Series\, $75 Register Here.  \n\n\n\n\n\n\n\n\n\n
URL:https://wellnessinmotionstudio.com/event/preschool-yoga-mindfulness-experience/
LOCATION:Wellness in Motion\, 2541 E. College Ave\, Suite 104\, State College\, PA\, 16801\, United States
ATTACH;FMTTYPE=image/jpeg:https://wellnessinmotionstudio.com/wp-content/uploads/2026/03/IMG_6642-scaled.jpg
END:VEVENT
END:VCALENDAR