BEGIN:VCALENDAR
VERSION:2.0
PRODID:-//Wellness in Motion - State College Yoga Studio - ECPv5.0.0//NONSGML v1.0//EN
CALSCALE:GREGORIAN
METHOD:PUBLISH
X-WR-CALNAME:Wellness in Motion - State College Yoga Studio
X-ORIGINAL-URL:https://wellnessinmotionstudio.com
X-WR-CALDESC:Events for Wellness in Motion - State College Yoga Studio
BEGIN:VTIMEZONE
TZID:America/New_York
BEGIN:DAYLIGHT
TZOFFSETFROM:-0500
TZOFFSETTO:-0400
TZNAME:EDT
DTSTART:20220313T070000
END:DAYLIGHT
BEGIN:STANDARD
TZOFFSETFROM:-0400
TZOFFSETTO:-0500
TZNAME:EST
DTSTART:20221106T060000
END:STANDARD
END:VTIMEZONE
BEGIN:VEVENT
DTSTART;TZID=America/New_York:20221111T173000
DTEND;TZID=America/New_York:20221111T203000
DTSTAMP:20260425T112438
CREATED:20220805T152438Z
LAST-MODIFIED:20221031T154633Z
UID:3193-1668187800-1668198600@wellnessinmotionstudio.com
SUMMARY:Parents Night Out: November
DESCRIPTION:Need a date night or simply some time to run errands without kiddos in tow? We’ve got you covered!\nWe’ll provide a youth yoga class\, craft\, snack and water.\nPlease bring a packed dinner for your kiddo. (Peanut free)\nThis special offering is open to fully potty-trained kids\, ages 4-9. Feel free to send your little one in movement appropriate pajamas so they are ready to transfer right into bed if they fall asleep on the way home. Our “Attitude of Gratitude” focus will be full of thoughtful fun!\nCost: $30/child or $45/2 siblings\n(Have more than 2 kiddos? Email us for other pricing options.)\n\nThis class is currently full. Email mandy@wellnessinmotionstudio.com to be added to the wait list.\n\n
URL:https://wellnessinmotionstudio.com/event/parents-night-out-november/
LOCATION:Wellness in Motion\, 2541 E. College Ave\, Suite 104\, State College\, PA\, 16801\, United States
CATEGORIES:Parent's Night Out
ATTACH;FMTTYPE=image/jpeg:https://wellnessinmotionstudio.com/wp-content/uploads/2022/08/PNO-Nov-e1659712680126.jpg
END:VEVENT
END:VCALENDAR