BEGIN:VCALENDAR
VERSION:2.0
PRODID:-//Wellness in Motion - State College Yoga Studio - ECPv5.0.0//NONSGML v1.0//EN
CALSCALE:GREGORIAN
METHOD:PUBLISH
X-WR-CALNAME:Wellness in Motion - State College Yoga Studio
X-ORIGINAL-URL:https://wellnessinmotionstudio.com
X-WR-CALDESC:Events for Wellness in Motion - State College Yoga Studio
BEGIN:VTIMEZONE
TZID:America/New_York
BEGIN:DAYLIGHT
TZOFFSETFROM:-0500
TZOFFSETTO:-0400
TZNAME:EDT
DTSTART:20200308T070000
END:DAYLIGHT
BEGIN:STANDARD
TZOFFSETFROM:-0400
TZOFFSETTO:-0500
TZNAME:EST
DTSTART:20201101T060000
END:STANDARD
END:VTIMEZONE
BEGIN:VEVENT
DTSTART;TZID=America/New_York:20201018T173000
DTEND;TZID=America/New_York:20201018T184500
DTSTAMP:20260425T123045
CREATED:20200609T155053Z
LAST-MODIFIED:20200609T155053Z
UID:2789-1603042200-1603046700@wellnessinmotionstudio.com
SUMMARY:Mindfulness Book Club
DESCRIPTION:Are you interested in reading about mindfulness and meditation? If so\, please join us! We will read one book related to mindfulness every two months and get together to have a chat about ways we can apply the teachings to our everyday lives. Spending two months on each book allows for a more relaxed reading pace and more time for integration. Read at your own pace and join into the discussion regardless of what page you are on. \nFor September and October 2020\, we’ll be reading “Making a Change for Good” by Cheri Huber. \n
URL:https://wellnessinmotionstudio.com/event/mindfulness-book-club-6/
LOCATION:Wellness in Motion\, 2541 E. College Ave\, Suite 104\, State College\, PA\, 16801\, United States
CATEGORIES:Mindfulness Book Club
ATTACH;FMTTYPE=image/jpeg:https://wellnessinmotionstudio.com/wp-content/uploads/2020/06/Making-a-change-for-good.jpg
END:VEVENT
END:VCALENDAR