BEGIN:VCALENDAR
VERSION:2.0
PRODID:-//Wellness in Motion - State College Yoga Studio - ECPv5.0.0//NONSGML v1.0//EN
CALSCALE:GREGORIAN
METHOD:PUBLISH
X-WR-CALNAME:Wellness in Motion - State College Yoga Studio
X-ORIGINAL-URL:https://wellnessinmotionstudio.com
X-WR-CALDESC:Events for Wellness in Motion - State College Yoga Studio
BEGIN:VTIMEZONE
TZID:America/New_York
BEGIN:DAYLIGHT
TZOFFSETFROM:-0500
TZOFFSETTO:-0400
TZNAME:EDT
DTSTART:20230312T070000
END:DAYLIGHT
BEGIN:STANDARD
TZOFFSETFROM:-0400
TZOFFSETTO:-0500
TZNAME:EST
DTSTART:20231105T060000
END:STANDARD
END:VTIMEZONE
BEGIN:VEVENT
DTSTART;TZID=America/New_York:20230825T183000
DTEND;TZID=America/New_York:20230825T194500
DTSTAMP:20260425T141642
CREATED:20230531T011722Z
LAST-MODIFIED:20230731T224208Z
UID:3336-1692988200-1692992700@wellnessinmotionstudio.com
SUMMARY:Herbs for Hormonal and Endocrine Health
DESCRIPTION:Learn about our endocrine system\, modern stressors to this system and ways we can support our system with herbs. We will discuss perimenopause\, menopause and menstrual health as well as general hormonal health for all bodies. No refunds are given for cancelled or missed reservations for special events. \nClick here to register for in studio. \nClick here to register for zoom.  \n
URL:https://wellnessinmotionstudio.com/event/herbs-for-hormonal-and-endocrine-health/
LOCATION:Wellness in Motion\, 2541 E. College Ave\, Suite 104\, State College\, PA\, 16801\, United States
ATTACH;FMTTYPE=image/jpeg:https://wellnessinmotionstudio.com/wp-content/uploads/2023/05/herbs-for-hormonal-health-e1685496084755.jpg
END:VEVENT
END:VCALENDAR