BEGIN:VCALENDAR
VERSION:2.0
PRODID:-//Wellness in Motion - State College Yoga Studio - ECPv5.0.0//NONSGML v1.0//EN
CALSCALE:GREGORIAN
METHOD:PUBLISH
X-WR-CALNAME:Wellness in Motion - State College Yoga Studio
X-ORIGINAL-URL:https://wellnessinmotionstudio.com
X-WR-CALDESC:Events for Wellness in Motion - State College Yoga Studio
BEGIN:VTIMEZONE
TZID:America/New_York
BEGIN:DAYLIGHT
TZOFFSETFROM:-0500
TZOFFSETTO:-0400
TZNAME:EDT
DTSTART:20240310T070000
END:DAYLIGHT
BEGIN:STANDARD
TZOFFSETFROM:-0400
TZOFFSETTO:-0500
TZNAME:EST
DTSTART:20241103T060000
END:STANDARD
END:VTIMEZONE
BEGIN:VEVENT
DTSTART;TZID=America/New_York:20240414T123000
DTEND;TZID=America/New_York:20240414T140000
DTSTAMP:20260425T123711
CREATED:20240326T163457Z
LAST-MODIFIED:20240326T163457Z
UID:3527-1713097800-1713103200@wellnessinmotionstudio.com
SUMMARY:Hello My Name is Yoga
DESCRIPTION:Sundays: April 14th\, 21st\, 28th\, 12:30-2:00pm \nWhat the heck even is a sun salutation and why do we do them? I don’t know my Hatha from my Vinyasa!! Mudra\, mantra\, who?! Did she just say downward dog is a RESTING pose?!?! If you’re feeling intimidated or confused by yoga lingo\, or asking yourself\, “am I doing this right?” in certain postures\, or even just not really knowing where to start when you step on to your mat\, join Jenn Dashem at Wellness in Motion for a three-part\, SUPER FUN break-down and demystification of all things yoga. The how and why of certain breathing techniques will be explained and explored. We’ll break down poses with easy to follow language and alignment adjustments. We’ll talk about yoga terms and phrases and get into what a “flow” really means and how to establish your own simple and effective home practice. Bring your yoga questions and banish any intimidation you may be feeling as you enter a yoga class after you’ll be armed with insider info! No fancy yoga attire is required. Comfortable clothing that you can move in is perfect. This is a great series for beginners\, but also those who have been practicing for a while and want to get creative in your personal practice\, dive deeper into physical alignment\, and truly FEEL the sensation of the body/breath connection. \nClick here to register. \n
URL:https://wellnessinmotionstudio.com/event/hello-my-name-is-yoga/
LOCATION:Wellness in Motion\, 2541 E. College Ave\, Suite 104\, State College\, PA\, 16801\, United States
ATTACH;FMTTYPE=image/jpeg:https://wellnessinmotionstudio.com/wp-content/uploads/2024/03/hello.jpg
END:VEVENT
END:VCALENDAR